Package: recount3 Version: 1.19.3 Command: rm -rf recount3.buildbin-libdir && mkdir recount3.buildbin-libdir && /Users/biocbuild/BBS/utils/build-universal.sh recount3_1.19.3.tar.gz /Library/Frameworks/R.framework/Resources/bin/R recount3.buildbin-libdir StartedAt: 2025-10-18 03:16:41 -0400 (Sat, 18 Oct 2025) EndedAt: 2025-10-18 03:17:31 -0400 (Sat, 18 Oct 2025) EllapsedTime: 49.8 seconds RetCode: 0 Status: OK PackageFile: recount3_1.19.3.tgz PackageFileSize: 638.9 KiB