Package: recount3 Version: 1.19.3 Command: /Library/Frameworks/R.framework/Resources/bin/R CMD INSTALL recount3 StartedAt: 2025-10-12 15:18:09 -0400 (Sun, 12 Oct 2025) EndedAt: 2025-10-12 15:18:22 -0400 (Sun, 12 Oct 2025) EllapsedTime: 13.5 seconds RetCode: 0 Status: OK