Package: recount3 Version: 1.19.3 Command: /Library/Frameworks/R.framework/Resources/bin/R CMD build --keep-empty-dirs --no-resave-data recount3 StartedAt: 2025-10-13 17:28:52 -0400 (Mon, 13 Oct 2025) EndedAt: 2025-10-13 17:29:59 -0400 (Mon, 13 Oct 2025) EllapsedTime: 66.8 seconds RetCode: 0 Status: OK PackageFile: recount3_1.19.3.tar.gz PackageFileSize: 562.1 KiB