Package: recount Version: 1.37.0 Command: /Library/Frameworks/R.framework/Resources/bin/R CMD INSTALL recount StartedAt: 2025-11-20 15:56:05 -0500 (Thu, 20 Nov 2025) EndedAt: 2025-11-20 15:57:09 -0500 (Thu, 20 Nov 2025) EllapsedTime: 64.6 seconds RetCode: 0 Status: OK