Package: recount Version: 1.37.0 Command: /Library/Frameworks/R.framework/Resources/bin/R CMD build --keep-empty-dirs --no-resave-data recount StartedAt: 2025-11-20 18:22:07 -0500 (Thu, 20 Nov 2025) EndedAt: 2025-11-20 18:30:32 -0500 (Thu, 20 Nov 2025) EllapsedTime: 505.0 seconds RetCode: 0 Status: OK PackageFile: recount_1.37.0.tar.gz PackageFileSize: 7.492 MiB