Package: recount Version: 1.35.0 Command: /Library/Frameworks/R.framework/Resources/bin/R CMD INSTALL recount StartedAt: 2025-10-28 15:30:38 -0400 (Tue, 28 Oct 2025) EndedAt: 2025-10-28 15:31:08 -0400 (Tue, 28 Oct 2025) EllapsedTime: 30.1 seconds RetCode: 0 Status: OK