Package: reconsi Version: 1.23.0 Command: /home/biocbuild/bbs-3.23-bioc/R/bin/R CMD INSTALL reconsi StartedAt: 2025-10-30 15:21:35 -0400 (Thu, 30 Oct 2025) EndedAt: 2025-10-30 15:21:55 -0400 (Thu, 30 Oct 2025) EllapsedTime: 19.9 seconds RetCode: 0 Status: OK