Package: reconsi Version: 1.23.0 Command: /home/biocbuild/bbs-3.23-bioc/R/bin/R CMD build --keep-empty-dirs --no-resave-data reconsi StartedAt: 2025-10-30 18:37:11 -0400 (Thu, 30 Oct 2025) EndedAt: 2025-10-30 18:38:21 -0400 (Thu, 30 Oct 2025) EllapsedTime: 70.1 seconds RetCode: 0 Status: OK PackageFile: reconsi_1.23.0.tar.gz PackageFileSize: 126.5 KiB