Package: reconsi Version: 1.23.0 Command: /Library/Frameworks/R.framework/Resources/bin/R CMD INSTALL reconsi StartedAt: 2025-11-21 15:23:35 -0500 (Fri, 21 Nov 2025) EndedAt: 2025-11-21 15:24:04 -0500 (Fri, 21 Nov 2025) EllapsedTime: 28.9 seconds RetCode: 0 Status: OK