Package: reconsi Version: 1.23.0 Command: /Library/Frameworks/R.framework/Resources/bin/R CMD build --keep-empty-dirs --no-resave-data reconsi StartedAt: 2025-11-20 18:22:07 -0500 (Thu, 20 Nov 2025) EndedAt: 2025-11-20 18:23:32 -0500 (Thu, 20 Nov 2025) EllapsedTime: 84.8 seconds RetCode: 0 Status: OK PackageFile: reconsi_1.23.0.tar.gz PackageFileSize: 136.8 KiB