Package: receptLoss Version: 1.21.0 Command: /home/biocbuild/bbs-3.22-bioc/R/bin/R CMD INSTALL receptLoss StartedAt: 2025-10-06 15:32:02 -0400 (Mon, 06 Oct 2025) EndedAt: 2025-10-06 15:32:25 -0400 (Mon, 06 Oct 2025) EllapsedTime: 22.7 seconds RetCode: 0 Status: OK