Package: receptLoss Version: 1.23.0 Command: /Library/Frameworks/R.framework/Resources/bin/R CMD INSTALL receptLoss StartedAt: 2025-11-21 15:32:51 -0500 (Fri, 21 Nov 2025) EndedAt: 2025-11-21 15:33:22 -0500 (Fri, 21 Nov 2025) EllapsedTime: 30.7 seconds RetCode: 0 Status: OK