Package: receptLoss Version: 1.23.0 Command: /Library/Frameworks/R.framework/Resources/bin/R CMD build --keep-empty-dirs --no-resave-data receptLoss StartedAt: 2025-11-21 18:21:30 -0500 (Fri, 21 Nov 2025) EndedAt: 2025-11-21 18:22:07 -0500 (Fri, 21 Nov 2025) EllapsedTime: 36.7 seconds RetCode: 0 Status: OK PackageFile: receptLoss_1.23.0.tar.gz PackageFileSize: 639.4 KiB