Package: receptLoss Version: 1.23.0 Command: rm -rf receptLoss.buildbin-libdir && mkdir receptLoss.buildbin-libdir && /Users/biocbuild/BBS/utils/build-universal.sh receptLoss_1.23.0.tar.gz /Library/Frameworks/R.framework/Resources/bin/R receptLoss.buildbin-libdir StartedAt: 2025-11-22 01:52:22 -0500 (Sat, 22 Nov 2025) EndedAt: 2025-11-22 01:52:57 -0500 (Sat, 22 Nov 2025) EllapsedTime: 34.6 seconds RetCode: 0 Status: OK PackageFile: receptLoss_1.23.0.tgz PackageFileSize: 386.9 KiB