Package: receptLoss Version: 1.21.0 Command: /Library/Frameworks/R.framework/Resources/bin/R CMD INSTALL receptLoss StartedAt: 2025-10-27 15:17:45 -0400 (Mon, 27 Oct 2025) EndedAt: 2025-10-27 15:17:55 -0400 (Mon, 27 Oct 2025) EllapsedTime: 9.5 seconds RetCode: 0 Status: OK