Package: receptLoss Version: 1.21.0 Command: rm -rf receptLoss.buildbin-libdir && mkdir receptLoss.buildbin-libdir && /Users/biocbuild/BBS/utils/build-universal.sh receptLoss_1.21.0.tar.gz /Library/Frameworks/R.framework/Resources/bin/R receptLoss.buildbin-libdir StartedAt: 2025-10-27 23:15:19 -0400 (Mon, 27 Oct 2025) EndedAt: 2025-10-27 23:15:29 -0400 (Mon, 27 Oct 2025) EllapsedTime: 10.2 seconds RetCode: 0 Status: OK PackageFile: receptLoss_1.21.0.tgz PackageFileSize: 387.6 KiB