Package: rebook Version: 1.21.0 Command: /Library/Frameworks/R.framework/Resources/bin/R CMD build --keep-empty-dirs --no-resave-data rebook StartedAt: 2025-11-20 17:25:29 -0500 (Thu, 20 Nov 2025) EndedAt: 2025-11-20 17:25:39 -0500 (Thu, 20 Nov 2025) EllapsedTime: 9.1 seconds RetCode: 0 Status: OK PackageFile: rebook_1.21.0.tar.gz PackageFileSize: 262.6 KiB