Package: rebook Version: 1.21.0 Command: rm -rf rebook.buildbin-libdir && mkdir rebook.buildbin-libdir && /Users/biocbuild/BBS/utils/build-universal.sh rebook_1.21.0.tar.gz /Library/Frameworks/R.framework/Resources/bin/R rebook.buildbin-libdir StartedAt: 2025-11-20 23:48:00 -0500 (Thu, 20 Nov 2025) EndedAt: 2025-11-20 23:48:03 -0500 (Thu, 20 Nov 2025) EllapsedTime: 3.1 seconds RetCode: 0 Status: OK PackageFile: rebook_1.21.0.tgz PackageFileSize: 329.8 KiB