Package: rcellminer Version: 2.31.1 Command: /Library/Frameworks/R.framework/Resources/bin/R CMD INSTALL rcellminer StartedAt: 2025-10-20 15:15:28 -0400 (Mon, 20 Oct 2025) EndedAt: 2025-10-20 15:15:45 -0400 (Mon, 20 Oct 2025) EllapsedTime: 16.6 seconds RetCode: 0 Status: OK