Package: rcellminer Version: 2.31.1 Command: rm -rf rcellminer.buildbin-libdir && mkdir rcellminer.buildbin-libdir && /Users/biocbuild/BBS/utils/build-universal.sh rcellminer_2.31.1.tar.gz /Library/Frameworks/R.framework/Resources/bin/R rcellminer.buildbin-libdir StartedAt: 2025-10-21 03:30:11 -0400 (Tue, 21 Oct 2025) EndedAt: 2025-10-21 03:30:27 -0400 (Tue, 21 Oct 2025) EllapsedTime: 16.2 seconds RetCode: 0 Status: OK PackageFile: rcellminer_2.31.1.tgz PackageFileSize: 2.913 MiB