Package: rcellminer Version: 2.31.1 Command: /Library/Frameworks/R.framework/Resources/bin/R CMD INSTALL rcellminer StartedAt: 2025-10-03 15:08:11 -0400 (Fri, 03 Oct 2025) EndedAt: 2025-10-03 15:08:15 -0400 (Fri, 03 Oct 2025) EllapsedTime: 3.2 seconds RetCode: 0 Status: OK