Package: rcellminer Version: 2.31.1 Command: /Library/Frameworks/R.framework/Resources/bin/R CMD build --keep-empty-dirs --no-resave-data rcellminer StartedAt: 2025-10-03 17:26:51 -0400 (Fri, 03 Oct 2025) EndedAt: 2025-10-03 17:28:07 -0400 (Fri, 03 Oct 2025) EllapsedTime: 75.9 seconds RetCode: 0 Status: OK PackageFile: rcellminer_2.31.1.tar.gz PackageFileSize: 2.66 MiB