Package: rbsurv Version: 2.69.0 Command: /home/biocbuild/bbs-3.23-bioc/R/bin/R CMD INSTALL rbsurv StartedAt: 2025-11-03 15:12:16 -0500 (Mon, 03 Nov 2025) EndedAt: 2025-11-03 15:12:22 -0500 (Mon, 03 Nov 2025) EllapsedTime: 6.1 seconds RetCode: 0 Status: OK