Package: rbsurv Version: 2.67.0 Command: /Library/Frameworks/R.framework/Resources/bin/R CMD build --keep-empty-dirs --no-resave-data rbsurv StartedAt: 2025-10-24 17:28:11 -0400 (Fri, 24 Oct 2025) EndedAt: 2025-10-24 17:28:22 -0400 (Fri, 24 Oct 2025) EllapsedTime: 11.1 seconds RetCode: 0 Status: OK PackageFile: rbsurv_2.67.0.tar.gz PackageFileSize: 366.5 KiB