Package: rbsurv Version: 2.67.0 Command: rm -rf rbsurv.buildbin-libdir && mkdir rbsurv.buildbin-libdir && /Users/biocbuild/BBS/utils/build-universal.sh rbsurv_2.67.0.tar.gz /Library/Frameworks/R.framework/Resources/bin/R rbsurv.buildbin-libdir StartedAt: 2025-10-24 23:15:36 -0400 (Fri, 24 Oct 2025) EndedAt: 2025-10-24 23:15:39 -0400 (Fri, 24 Oct 2025) EllapsedTime: 3.1 seconds RetCode: 0 Status: OK PackageFile: rbsurv_2.67.0.tgz PackageFileSize: 394.1 KiB