Package: rawrr Version: 1.19.0 Command: /home/biocbuild/bbs-3.23-bioc/R/bin/R CMD build --keep-empty-dirs --no-resave-data rawrr StartedAt: 2025-11-03 19:21:11 -0500 (Mon, 03 Nov 2025) EndedAt: 2025-11-03 19:22:12 -0500 (Mon, 03 Nov 2025) EllapsedTime: 61.0 seconds RetCode: 0 Status: OK PackageFile: rawrr_1.19.0.tar.gz PackageFileSize: 2.302 MiB