Package: rawrr Version: 1.17.13 Command: /Library/Frameworks/R.framework/Resources/bin/R CMD build --keep-empty-dirs --no-resave-data rawrr StartedAt: 2025-10-22 17:28:42 -0400 (Wed, 22 Oct 2025) EndedAt: 2025-10-22 17:29:44 -0400 (Wed, 22 Oct 2025) EllapsedTime: 61.7 seconds RetCode: 0 Status: OK PackageFile: rawrr_1.17.13.tar.gz PackageFileSize: 2.002 MiB