Package: rawDiag Version: 1.7.0 Command: /home/biocbuild/bbs-3.23-bioc/R/bin/R CMD INSTALL rawDiag StartedAt: 2025-11-20 15:08:08 -0500 (Thu, 20 Nov 2025) EndedAt: 2025-11-20 15:08:15 -0500 (Thu, 20 Nov 2025) EllapsedTime: 6.9 seconds RetCode: 0 Status: OK