Package: rawDiag Version: 1.7.0 Command: /home/biocbuild/bbs-3.23-bioc/R/bin/R CMD build --keep-empty-dirs --no-resave-data rawDiag StartedAt: 2025-11-20 19:29:11 -0500 (Thu, 20 Nov 2025) EndedAt: 2025-11-20 19:30:25 -0500 (Thu, 20 Nov 2025) EllapsedTime: 74.0 seconds RetCode: 0 Status: OK PackageFile: rawDiag_1.7.0.tar.gz PackageFileSize: 2.141 MiB