Package: rawDiag Version: 1.5.3 Command: /Library/Frameworks/R.framework/Resources/bin/R CMD build --keep-empty-dirs --no-resave-data rawDiag StartedAt: 2025-10-17 18:55:51 -0400 (Fri, 17 Oct 2025) EndedAt: 2025-10-17 18:57:37 -0400 (Fri, 17 Oct 2025) EllapsedTime: 106.5 seconds RetCode: 0 Status: OK PackageFile: rawDiag_1.5.3.tar.gz PackageFileSize: 2.078 MiB