Package: rawDiag Version: 1.5.3 Command: rm -rf rawDiag.buildbin-libdir && mkdir rawDiag.buildbin-libdir && /Users/biocbuild/BBS/utils/build-universal.sh rawDiag_1.5.3.tar.gz /Library/Frameworks/R.framework/Resources/bin/R rawDiag.buildbin-libdir StartedAt: 2025-10-18 03:15:59 -0400 (Sat, 18 Oct 2025) EndedAt: 2025-10-18 03:16:13 -0400 (Sat, 18 Oct 2025) EllapsedTime: 13.9 seconds RetCode: 0 Status: OK PackageFile: rawDiag_1.5.3.tgz PackageFileSize: 2.097 MiB