Package: rawDiag Version: 1.5.3 Command: /Library/Frameworks/R.framework/Resources/bin/R CMD INSTALL rawDiag StartedAt: 2025-10-06 15:05:05 -0400 (Mon, 06 Oct 2025) EndedAt: 2025-10-06 15:05:11 -0400 (Mon, 06 Oct 2025) EllapsedTime: 5.9 seconds RetCode: 0 Status: OK