Package: rawDiag Version: 1.5.3 Command: /Library/Frameworks/R.framework/Resources/bin/R CMD build --keep-empty-dirs --no-resave-data rawDiag StartedAt: 2025-10-06 17:26:48 -0400 (Mon, 06 Oct 2025) EndedAt: 2025-10-06 17:27:47 -0400 (Mon, 06 Oct 2025) EllapsedTime: 59.7 seconds RetCode: 0 Status: OK PackageFile: rawDiag_1.5.3.tar.gz PackageFileSize: 2.081 MiB