Package: rawDiag Version: 1.5.3 Command: rm -rf rawDiag.buildbin-libdir && mkdir rawDiag.buildbin-libdir && /Users/biocbuild/BBS/utils/build-universal.sh rawDiag_1.5.3.tar.gz /Library/Frameworks/R.framework/Resources/bin/R rawDiag.buildbin-libdir StartedAt: 2025-10-06 22:56:20 -0400 (Mon, 06 Oct 2025) EndedAt: 2025-10-06 22:56:25 -0400 (Mon, 06 Oct 2025) EllapsedTime: 4.1 seconds RetCode: 0 Status: OK PackageFile: rawDiag_1.5.3.tgz PackageFileSize: 2.101 MiB