Package: randRotation Version: 1.21.0 Command: /home/biocbuild/R/R/bin/R CMD INSTALL randRotation StartedAt: 2025-09-29 20:31:25 -0000 (Mon, 29 Sep 2025) EndedAt: 2025-09-29 20:31:55 -0000 (Mon, 29 Sep 2025) EllapsedTime: 30.1 seconds RetCode: 0 Status: OK