Package: randRotation Version: 1.21.0 Command: /home/biocbuild/R/R/bin/R CMD build --keep-empty-dirs --no-resave-data randRotation StartedAt: 2025-09-30 02:30:21 -0000 (Tue, 30 Sep 2025) EndedAt: 2025-09-30 02:32:56 -0000 (Tue, 30 Sep 2025) EllapsedTime: 155.1 seconds RetCode: 0 Status: OK PackageFile: randRotation_1.21.0.tar.gz PackageFileSize: 961.9 KiB