Package: randRotation Version: 1.23.0 Command: /home/biocbuild/bbs-3.23-bioc/R/bin/R CMD INSTALL randRotation StartedAt: 2025-10-31 15:11:42 -0400 (Fri, 31 Oct 2025) EndedAt: 2025-10-31 15:12:02 -0400 (Fri, 31 Oct 2025) EllapsedTime: 19.7 seconds RetCode: 0 Status: OK