Package: randRotation Version: 1.23.0 Command: /home/biocbuild/bbs-3.23-bioc/R/bin/R CMD check --install=check:randRotation.install-out.txt --library=/home/biocbuild/bbs-3.23-bioc/R/site-library --timings randRotation_1.23.0.tar.gz StartedAt: 2025-11-01 02:39:43 -0400 (Sat, 01 Nov 2025) EndedAt: 2025-11-01 02:42:11 -0400 (Sat, 01 Nov 2025) EllapsedTime: 148.3 seconds RetCode: 0 Status: OK CheckDir: randRotation.Rcheck Warnings: 0