Package: randRotation Version: 1.23.0 Command: /home/biocbuild/bbs-3.23-bioc/R/bin/R CMD build --keep-empty-dirs --no-resave-data randRotation StartedAt: 2025-10-31 19:38:39 -0400 (Fri, 31 Oct 2025) EndedAt: 2025-10-31 19:40:24 -0400 (Fri, 31 Oct 2025) EllapsedTime: 105.1 seconds RetCode: 0 Status: OK PackageFile: randRotation_1.23.0.tar.gz PackageFileSize: 973.9 KiB