Package: randPack Version: 1.57.0 Command: /home/biocbuild/bbs-3.23-bioc/R/bin/R CMD build --keep-empty-dirs --no-resave-data randPack StartedAt: 2025-11-20 19:28:52 -0500 (Thu, 20 Nov 2025) EndedAt: 2025-11-20 19:28:59 -0500 (Thu, 20 Nov 2025) EllapsedTime: 7.0 seconds RetCode: 0 Status: OK PackageFile: randPack_1.57.0.tar.gz PackageFileSize: 253.4 KiB