Package: randPack Version: 1.55.0 Command: /Library/Frameworks/R.framework/Resources/bin/R CMD INSTALL randPack StartedAt: 2025-10-13 15:18:33 -0400 (Mon, 13 Oct 2025) EndedAt: 2025-10-13 15:18:47 -0400 (Mon, 13 Oct 2025) EllapsedTime: 14.8 seconds RetCode: 0 Status: OK