Package: randPack Version: 1.55.0 Command: /Library/Frameworks/R.framework/Resources/bin/R CMD build --keep-empty-dirs --no-resave-data randPack StartedAt: 2025-10-13 18:55:40 -0400 (Mon, 13 Oct 2025) EndedAt: 2025-10-13 18:55:53 -0400 (Mon, 13 Oct 2025) EllapsedTime: 13.7 seconds RetCode: 0 Status: OK PackageFile: randPack_1.55.0.tar.gz PackageFileSize: 253.5 KiB