Package: randPack Version: 1.55.0 Command: rm -rf randPack.buildbin-libdir && mkdir randPack.buildbin-libdir && /Users/biocbuild/BBS/utils/build-universal.sh randPack_1.55.0.tar.gz /Library/Frameworks/R.framework/Resources/bin/R randPack.buildbin-libdir StartedAt: 2025-10-14 03:01:57 -0400 (Tue, 14 Oct 2025) EndedAt: 2025-10-14 03:02:07 -0400 (Tue, 14 Oct 2025) EllapsedTime: 10.5 seconds RetCode: 0 Status: OK PackageFile: randPack_1.55.0.tgz PackageFileSize: 461.5 KiB