Package: randPack Version: 1.55.0 Command: /Library/Frameworks/R.framework/Resources/bin/R CMD build --keep-empty-dirs --no-resave-data randPack StartedAt: 2025-10-03 17:25:42 -0400 (Fri, 03 Oct 2025) EndedAt: 2025-10-03 17:25:46 -0400 (Fri, 03 Oct 2025) EllapsedTime: 4.1 seconds RetCode: 0 Status: OK PackageFile: randPack_1.55.0.tar.gz PackageFileSize: 253.5 KiB