Package: ramwas Version: 1.35.0 Command: /Library/Frameworks/R.framework/Resources/bin/R CMD INSTALL ramwas StartedAt: 2025-11-26 15:36:56 -0500 (Wed, 26 Nov 2025) EndedAt: 2025-11-26 15:37:43 -0500 (Wed, 26 Nov 2025) EllapsedTime: 47.6 seconds RetCode: 0 Status: OK