Package: ramwas Version: 1.35.0 Command: /Library/Frameworks/R.framework/Resources/bin/R CMD build --keep-empty-dirs --no-resave-data ramwas StartedAt: 2025-11-27 18:19:13 -0500 (Thu, 27 Nov 2025) EndedAt: 2025-11-27 18:23:48 -0500 (Thu, 27 Nov 2025) EllapsedTime: 275.6 seconds RetCode: 0 Status: OK PackageFile: ramwas_1.35.0.tar.gz PackageFileSize: 3.238 MiB