Package: ramr Version: 1.17.1 Command: /home/biocbuild/R/R/bin/R CMD INSTALL ramr StartedAt: 2025-10-13 20:50:16 -0000 (Mon, 13 Oct 2025) EndedAt: 2025-10-13 20:51:46 -0000 (Mon, 13 Oct 2025) EllapsedTime: 89.6 seconds RetCode: 0 Status: OK