Package: ramr Version: 1.17.1 Command: /home/biocbuild/R/R/bin/R CMD build --keep-empty-dirs --no-resave-data ramr StartedAt: 2025-10-14 02:48:49 -0000 (Tue, 14 Oct 2025) EndedAt: 2025-10-14 02:52:33 -0000 (Tue, 14 Oct 2025) EllapsedTime: 224.2 seconds RetCode: 0 Status: OK PackageFile: ramr_1.17.1.tar.gz PackageFileSize: 2.439 MiB