Package: ramr Version: 1.17.1 Command: /home/biocbuild/bbs-3.22-bioc/R/bin/R CMD check --install=check:ramr.install-out.txt --library=/home/biocbuild/bbs-3.22-bioc/R/site-library --timings ramr_1.17.1.tar.gz StartedAt: 2025-10-06 03:21:25 -0400 (Mon, 06 Oct 2025) EndedAt: 2025-10-06 03:26:03 -0400 (Mon, 06 Oct 2025) EllapsedTime: 278.4 seconds RetCode: 0 Status: OK CheckDir: ramr.Rcheck Warnings: 0