Package: ramr Version: 1.19.0 Command: /home/biocbuild/bbs-3.23-bioc/R/bin/R CMD INSTALL ramr StartedAt: 2025-11-04 15:14:08 -0500 (Tue, 04 Nov 2025) EndedAt: 2025-11-04 15:15:07 -0500 (Tue, 04 Nov 2025) EllapsedTime: 58.8 seconds RetCode: 0 Status: OK